BEGIN:VCALENDAR
VERSION:2.0
PRODID:-//Concept Art &amp; Zinc - ECPv6.15.20//NONSGML v1.0//EN
CALSCALE:GREGORIAN
METHOD:PUBLISH
X-WR-CALNAME:Concept Art &amp; Zinc
X-ORIGINAL-URL:https://conceptartzinc.fr
X-WR-CALDESC:Évènements pour Concept Art &amp; Zinc
REFRESH-INTERVAL;VALUE=DURATION:PT1H
X-Robots-Tag:noindex
X-PUBLISHED-TTL:PT1H
BEGIN:VTIMEZONE
TZID:Europe/Paris
BEGIN:DAYLIGHT
TZOFFSETFROM:+0100
TZOFFSETTO:+0200
TZNAME:CEST
DTSTART:20250330T010000
END:DAYLIGHT
BEGIN:STANDARD
TZOFFSETFROM:+0200
TZOFFSETTO:+0100
TZNAME:CET
DTSTART:20251026T010000
END:STANDARD
BEGIN:DAYLIGHT
TZOFFSETFROM:+0100
TZOFFSETTO:+0200
TZNAME:CEST
DTSTART:20260329T010000
END:DAYLIGHT
BEGIN:STANDARD
TZOFFSETFROM:+0200
TZOFFSETTO:+0100
TZNAME:CET
DTSTART:20261025T010000
END:STANDARD
BEGIN:DAYLIGHT
TZOFFSETFROM:+0100
TZOFFSETTO:+0200
TZNAME:CEST
DTSTART:20270328T010000
END:DAYLIGHT
BEGIN:STANDARD
TZOFFSETFROM:+0200
TZOFFSETTO:+0100
TZNAME:CET
DTSTART:20271031T010000
END:STANDARD
END:VTIMEZONE
BEGIN:VEVENT
DTSTART;VALUE=DATE:20260704
DTEND;VALUE=DATE:20260817
DTSTAMP:20260420T163010
CREATED:20260420T120157Z
LAST-MODIFIED:20260420T120157Z
UID:4439-1783123200-1786924799@conceptartzinc.fr
SUMMARY:Expositions de girouette et épis de faîtage
DESCRIPTION:
URL:https://conceptartzinc.fr/evenement/expositions-de-girouette-et-epis-de-faitage/
LOCATION:29-31 rue Cortel\, 29-31 rue Cortel\, Joigny\, 89300\, France
ATTACH;FMTTYPE=image/jpeg:https://conceptartzinc.fr/wp-content/uploads/2026/04/App-Art-Logo.jpg
END:VEVENT
END:VCALENDAR